BEGIN:VCALENDAR
VERSION:2.0
PRODID:-//wp-events-plugin.com//7.2.3.1//EN
TZID:America/New_York
X-WR-TIMEZONE:America/New_York
BEGIN:VEVENT
UID:18225@goriverwalk.com
DTSTART;TZID=America/New_York:20231203T140000
DTEND;TZID=America/New_York:20231203T160000
DTSTAMP:20231129T205628Z
URL:https://www.goriverwalk.com/greater-fort-lauderdale-events/holiday-che
 ers
SUMMARY:Holiday Cheers
DESCRIPTION:By Broward College Symphonic Band
ATTACH;FMTTYPE=image/jpeg:https://www.goriverwalk.com/wp-content/uploads/2
 023/11/12-3-BSB-Holiday-Cheers-260x155-bc-calendar-thumbnail.jpg
CATEGORIES:Music
LOCATION:Bailey Hall\, 3501 Davie Road\, Davie\, Florida\, 33314\, United S
 tates
GEO:26.079207;-80.23403139999999
X-APPLE-STRUCTURED-LOCATION;VALUE=URI;X-ADDRESS=3501 Davie Road\, Davie\, F
 lorida\, 33314\, United States;X-APPLE-RADIUS=100;X-TITLE=Bailey Hall:geo:
 26.079207,-80.23403139999999
END:VEVENT
BEGIN:VTIMEZONE
TZID:America/New_York
X-LIC-LOCATION:America/New_York
BEGIN:STANDARD
DTSTART:20231105T010000
TZOFFSETFROM:-0400
TZOFFSETTO:-0500
TZNAME:EST
END:STANDARD
END:VTIMEZONE
END:VCALENDAR