BEGIN:VCALENDAR
VERSION:2.0
PRODID:-//wp-events-plugin.com//7.2.3.1//EN
TZID:America/New_York
X-WR-TIMEZONE:America/New_York
BEGIN:VEVENT
UID:7399@goriverwalk.com
DTSTART;TZID=America/New_York:20190521T173000
DTEND;TZID=America/New_York:20190521T193000
DTSTAMP:20190514T134509Z
URL:https://www.goriverwalk.com/greater-fort-lauderdale-events/history-hap
 py-hour-fort-lauderdale-in-the-roaring-20s
SUMMARY:History Happy Hour: Fort Lauderdale in the Roaring 20s
DESCRIPTION:With historian Susan Gillis
ATTACH;FMTTYPE=image/jpeg:https://www.goriverwalk.com/wp-content/uploads/2
 017/12/Historic-Stranahan-House-Museum-by-Gordon-Ollie-Wareham.jpg
CATEGORIES:Cocktail,Community,Cultural,History
LOCATION:Historic Stranahan House Museum\, 335 SE 6th Ave.\, Fort Lauderdal
 e\, FL\, 33301\, United States
GEO:26.118446;-80.137512
X-APPLE-STRUCTURED-LOCATION;VALUE=URI;X-ADDRESS=335 SE 6th Ave.\, Fort Laud
 erdale\, FL\, 33301\, United States;X-APPLE-RADIUS=100;X-TITLE=Historic St
 ranahan House Museum:geo:26.118446,-80.137512
END:VEVENT
BEGIN:VTIMEZONE
TZID:America/New_York
X-LIC-LOCATION:America/New_York
BEGIN:DAYLIGHT
DTSTART:20190310T030000
TZOFFSETFROM:-0500
TZOFFSETTO:-0400
TZNAME:EDT
END:DAYLIGHT
END:VTIMEZONE
END:VCALENDAR