BEGIN:VCALENDAR
VERSION:2.0
PRODID:-//wp-events-plugin.com//7.2.3.1//EN
TZID:America/New_York
X-WR-TIMEZONE:America/New_York
BEGIN:VEVENT
UID:18577@goriverwalk.com
DTSTART;TZID=America/New_York:20240224T110000
DTEND;TZID=America/New_York:20240224T140000
DTSTAMP:20240131T163616Z
URL:https://www.goriverwalk.com/greater-fort-lauderdale-events/history-for
 t-lauderdales-family-fun-day-featuring-meet-greet-with-authors-george-s-le
 mieux-laura-e-mize
SUMMARY:History Fort Lauderdale’s Family Fun Day Featuring Meet &amp\; Gr
 eet with Authors George S. LeMieux &amp\; Laura E. Mize
DESCRIPTION:Free Family Fun Day
ATTACH;FMTTYPE=image/jpeg:https://www.goriverwalk.com/wp-content/uploads/2
 024/01/Florida-Scribes-and-Stories-Authors-Resized.jpg
CATEGORIES:Art,Children,Cultural,History
LOCATION:History Fort Lauderdale\, 231 SW Second Avenue\, Fort Lauderdale\,
  FL\, 33301\, Fort Lauderdale\, United States
X-APPLE-STRUCTURED-LOCATION;VALUE=URI;X-ADDRESS=231 SW Second Avenue\, Fort
  Lauderdale\, FL\, 33301\, Fort Lauderdale\, United States;X-APPLE-RADIUS=
 100;X-TITLE=History Fort Lauderdale:geo:0,0
END:VEVENT
BEGIN:VTIMEZONE
TZID:America/New_York
X-LIC-LOCATION:America/New_York
BEGIN:STANDARD
DTSTART:20231105T010000
TZOFFSETFROM:-0400
TZOFFSETTO:-0500
TZNAME:EST
END:STANDARD
END:VTIMEZONE
END:VCALENDAR