BEGIN:VCALENDAR
VERSION:2.0
PRODID:-//wp-events-plugin.com//7.2.3.1//EN
TZID:America/New_York
X-WR-TIMEZONE:America/New_York
BEGIN:VEVENT
UID:18521@goriverwalk.com
DTSTART;TZID=America/New_York:20240131T180000
DTEND;TZID=America/New_York:20240131T200000
DTSTAMP:20240117T212334Z
URL:https://www.goriverwalk.com/greater-fort-lauderdale-events/history-for
 t-lauderdales-27th-annual-history-makers-fundraiser-honoring-kelley-shanle
 y-galleria-fort-lauderdale
SUMMARY:History Fort Lauderdale’s 27th Annual History Makers Fundraiser H
 onoring Kelley Shanley &amp\; Galleria Fort Lauderdale
DESCRIPTION:Kelley Shanley will be honored as this year’s History Maker 
ATTACH;FMTTYPE=image/jpeg:https://www.goriverwalk.com/wp-content/uploads/2
 024/01/https___cdn.evbuc_.com_images_671860869_501579218997_1_original.jpg
CATEGORIES:Community
LOCATION:Galleria Fort Lauderdale\, 2414 E Sunrise Blvd\, Fort Lauderdale\,
  Florida\, 33304\, United States
X-APPLE-STRUCTURED-LOCATION;VALUE=URI;X-ADDRESS=2414 E Sunrise Blvd\, Fort 
 Lauderdale\, Florida\, 33304\, United States;X-APPLE-RADIUS=100;X-TITLE=Ga
 lleria Fort Lauderdale:geo:0,0
END:VEVENT
BEGIN:VTIMEZONE
TZID:America/New_York
X-LIC-LOCATION:America/New_York
BEGIN:STANDARD
DTSTART:20231105T010000
TZOFFSETFROM:-0400
TZOFFSETTO:-0500
TZNAME:EST
END:STANDARD
END:VTIMEZONE
END:VCALENDAR