BEGIN:VCALENDAR
VERSION:2.0
PRODID:-//wp-events-plugin.com//7.2.3.1//EN
TZID:America/New_York
X-WR-TIMEZONE:America/New_York
BEGIN:VEVENT
UID:2394@goriverwalk.com
DTSTART;TZID=America/New_York:20160812T110000
DTEND;TZID=America/New_York:20160812T140000
DTSTAMP:20160623T201907Z
URL:https://www.goriverwalk.com/greater-fort-lauderdale-events/hispanic-wo
 men-of-distinction-luncheon
SUMMARY:Hispanic Women of Distinction Luncheon
DESCRIPTION:
CATEGORIES:Cultural
LOCATION:The Signature Grand\, 6900 W State Road 84\, Davie\, FL\, 33317\, 
 United States
GEO:26.0942378;-80.2370707
X-APPLE-STRUCTURED-LOCATION;VALUE=URI;X-ADDRESS=6900 W State Road 84\, Davi
 e\, FL\, 33317\, United States;X-APPLE-RADIUS=100;X-TITLE=The Signature Gr
 and:geo:26.0942378,-80.2370707
END:VEVENT
BEGIN:VTIMEZONE
TZID:America/New_York
X-LIC-LOCATION:America/New_York
BEGIN:DAYLIGHT
DTSTART:20160313T030000
TZOFFSETFROM:-0500
TZOFFSETTO:-0400
TZNAME:EDT
END:DAYLIGHT
END:VTIMEZONE
END:VCALENDAR