BEGIN:VCALENDAR
VERSION:2.0
PRODID:-//wp-events-plugin.com//7.2.3.1//EN
TZID:America/New_York
X-WR-TIMEZONE:America/New_York
BEGIN:VEVENT
UID:6243@goriverwalk.com
DTSTART;TZID=America/New_York:20181108T193000
DTEND;TZID=America/New_York:20181125T213000
DTSTAMP:20181112T155048Z
URL:https://www.goriverwalk.com/greater-fort-lauderdale-events/hedwig-and-
 the-angry-inch
SUMMARY:Hedwig and the Angry Inch
DESCRIPTION:The Tony Award-winning play
ATTACH;FMTTYPE=image/jpeg:https://www.goriverwalk.com/wp-content/uploads/2
 018/11/Hewig.jpg
CATEGORIES:Theater
LOCATION:Abdo New River Room at The Broward Center for the Performing Arts\
 , 201 SW 5th Ave.\, Fort Lauderdale\, FL\, 33312\, FL\, United States
GEO:26.119873;-80.149269
X-APPLE-STRUCTURED-LOCATION;VALUE=URI;X-ADDRESS=201 SW 5th Ave.\, Fort Laud
 erdale\, FL\, 33312\, FL\, United States;X-APPLE-RADIUS=100;X-TITLE=Abdo N
 ew River Room at The Broward Center for the Performing Arts:geo:26.119873,
 -80.149269
END:VEVENT
BEGIN:VTIMEZONE
TZID:America/New_York
X-LIC-LOCATION:America/New_York
BEGIN:STANDARD
DTSTART:20181104T010000
TZOFFSETFROM:-0400
TZOFFSETTO:-0500
TZNAME:EST
END:STANDARD
END:VTIMEZONE
END:VCALENDAR