BEGIN:VCALENDAR
VERSION:2.0
PRODID:-//wp-events-plugin.com//7.2.3.1//EN
TZID:America/New_York
X-WR-TIMEZONE:America/New_York
BEGIN:VEVENT
UID:8357@goriverwalk.com
DTSTART;TZID=America/New_York:20191010T180000
DTEND;TZID=America/New_York:20191010T210000
DTSTAMP:20191007T204519Z
URL:https://www.goriverwalk.com/greater-fort-lauderdale-events/healthy-coo
 king-class
SUMMARY:Healthy Cooking Class
DESCRIPTION:With a chef and certified nutritionist
ATTACH;FMTTYPE=image/jpeg:https://www.goriverwalk.com/wp-content/uploads/2
 019/10/Screen-Shot-2019-10-07-at-10.20.57-AM.png
CATEGORIES:Food,Fundraiser
LOCATION:Brimstone Woodfire Grill\, 14575 SW 5th Street\, Pembroke Pines\, 
 FL\, 33027\, United States
GEO:26.0042935;-80.33817149999999
X-APPLE-STRUCTURED-LOCATION;VALUE=URI;X-ADDRESS=14575 SW 5th Street\, Pembr
 oke Pines\, FL\, 33027\, United States;X-APPLE-RADIUS=100;X-TITLE=Brimston
 e Woodfire Grill:geo:26.0042935,-80.33817149999999
END:VEVENT
BEGIN:VTIMEZONE
TZID:America/New_York
X-LIC-LOCATION:America/New_York
BEGIN:DAYLIGHT
DTSTART:20190310T030000
TZOFFSETFROM:-0500
TZOFFSETTO:-0400
TZNAME:EDT
END:DAYLIGHT
END:VTIMEZONE
END:VCALENDAR