BEGIN:VCALENDAR
VERSION:2.0
PRODID:-//wp-events-plugin.com//7.2.3.1//EN
TZID:America/New_York
X-WR-TIMEZONE:America/New_York
BEGIN:VEVENT
UID:10295@goriverwalk.com
DTSTART;TZID=America/New_York:20201020T160000
DTEND;TZID=America/New_York:20201020T170000
DTSTAMP:20201016T160423Z
URL:https://www.goriverwalk.com/greater-fort-lauderdale-events/halloween-s
 pooktacular-the-legend-of-sleepy-hollow-puppet-show
SUMMARY:Halloween Spooktacular: The Legend of Sleepy Hollow Puppet Show
DESCRIPTION:A non-scary version of the classic tale
ATTACH;FMTTYPE=image/jpeg:https://www.goriverwalk.com/wp-content/uploads/2
 019/02/broward-library.jpg
CATEGORIES:Holiday
END:VEVENT
BEGIN:VTIMEZONE
TZID:America/New_York
X-LIC-LOCATION:America/New_York
BEGIN:DAYLIGHT
DTSTART:20200308T030000
TZOFFSETFROM:-0500
TZOFFSETTO:-0400
TZNAME:EDT
END:DAYLIGHT
END:VTIMEZONE
END:VCALENDAR