BEGIN:VCALENDAR
VERSION:2.0
PRODID:-//wp-events-plugin.com//7.2.3.1//EN
TZID:America/New_York
X-WR-TIMEZONE:America/New_York
BEGIN:VEVENT
UID:6136@goriverwalk.com
DTSTART;TZID=America/New_York:20181117T181500
DTEND;TZID=America/New_York:20181117T220000
DTSTAMP:20181029T160341Z
URL:https://www.goriverwalk.com/greater-fort-lauderdale-events/glow-your-r
 ide-spin-experience-at-w-fort-lauderdale
SUMMARY:Glow Your Ride Spin Experience at W Fort Lauderdale
DESCRIPTION:A high-energy spinning class
ATTACH;FMTTYPE=image/jpeg:https://www.goriverwalk.com/wp-content/uploads/2
 018/10/https_2F2Fcdn.evbuc_.com2Fimages2F510496502F1434995915392F12Forigin
 al.jpg
CATEGORIES:Art
LOCATION:W Fort Lauderdale\, 401 N. Fort Lauderdale Beach Blvd.\, Fort Laud
 erdale\, FL\, 33304\, United States
GEO:26.1285827;-80.1039467
X-APPLE-STRUCTURED-LOCATION;VALUE=URI;X-ADDRESS=401 N. Fort Lauderdale Beac
 h Blvd.\, Fort Lauderdale\, FL\, 33304\, United States;X-APPLE-RADIUS=100;
 X-TITLE=W Fort Lauderdale:geo:26.1285827,-80.1039467
END:VEVENT
BEGIN:VTIMEZONE
TZID:America/New_York
X-LIC-LOCATION:America/New_York
BEGIN:STANDARD
DTSTART:20181104T010000
TZOFFSETFROM:-0400
TZOFFSETTO:-0500
TZNAME:EST
END:STANDARD
END:VTIMEZONE
END:VCALENDAR