BEGIN:VCALENDAR
VERSION:2.0
PRODID:-//wp-events-plugin.com//7.2.3.1//EN
TZID:America/New_York
X-WR-TIMEZONE:America/New_York
BEGIN:VEVENT
UID:12984@goriverwalk.com
DTSTART;TZID=America/New_York:20220503T200000
DTEND;TZID=America/New_York:20220503T220000
DTSTAMP:20211202T174637Z
URL:https://www.goriverwalk.com/greater-fort-lauderdale-events/give-them-l
 ala-with-randall-live-2
SUMMARY:Give Them Lala...With Randall Live
DESCRIPTION:Special guests Brittany Cartwright and Jax Taylor
ATTACH;FMTTYPE=image/jpeg:https://www.goriverwalk.com/wp-content/uploads/2
 021/12/give-them-lala-sq-e1638467051462.png
CATEGORIES:Comedy
LOCATION:Amaturo Theater at The Broward Center for the Performing Arts\, 20
 1 SW 5th Ave.\, Fort Lauderdale\, FL\, 33312\, FL\, United States
GEO:26.1198743;-80.14926960000003
X-APPLE-STRUCTURED-LOCATION;VALUE=URI;X-ADDRESS=201 SW 5th Ave.\, Fort Laud
 erdale\, FL\, 33312\, FL\, United States;X-APPLE-RADIUS=100;X-TITLE=Amatur
 o Theater at The Broward Center for the Performing Arts:geo:26.1198743,-80
 .14926960000003
END:VEVENT
BEGIN:VTIMEZONE
TZID:America/New_York
X-LIC-LOCATION:America/New_York
BEGIN:DAYLIGHT
DTSTART:20220313T030000
TZOFFSETFROM:-0500
TZOFFSETTO:-0400
TZNAME:EDT
END:DAYLIGHT
END:VTIMEZONE
END:VCALENDAR