BEGIN:VCALENDAR
VERSION:2.0
PRODID:-//wp-events-plugin.com//7.2.3.1//EN
TZID:America/New_York
X-WR-TIMEZONE:America/New_York
BEGIN:VEVENT
UID:5355@goriverwalk.com
DTSTART;TZID=America/New_York:20180926T110000
DTEND;TZID=America/New_York:20180926T130000
DTSTAMP:20180816T143852Z
URL:https://www.goriverwalk.com/greater-fort-lauderdale-events/girl-scouts
 -lead-the-way-luncheon
SUMMARY:Girl Scouts Lead the Way Luncheon
DESCRIPTION:Featuring the CEO of Carnival Cruises
ATTACH;FMTTYPE=image/jpeg:https://www.goriverwalk.com/wp-content/uploads/2
 018/07/girl-scouts.jpg
CATEGORIES:Community,Fundraiser
LOCATION:The Signature Grand\, 6900 W State Road 84\, Davie\, FL\, 33317\, 
 United States
GEO:26.0942378;-80.2370707
X-APPLE-STRUCTURED-LOCATION;VALUE=URI;X-ADDRESS=6900 W State Road 84\, Davi
 e\, FL\, 33317\, United States;X-APPLE-RADIUS=100;X-TITLE=The Signature Gr
 and:geo:26.0942378,-80.2370707
END:VEVENT
BEGIN:VTIMEZONE
TZID:America/New_York
X-LIC-LOCATION:America/New_York
BEGIN:DAYLIGHT
DTSTART:20180311T030000
TZOFFSETFROM:-0500
TZOFFSETTO:-0400
TZNAME:EDT
END:DAYLIGHT
END:VTIMEZONE
END:VCALENDAR