BEGIN:VCALENDAR
VERSION:2.0
PRODID:-//wp-events-plugin.com//7.2.3.1//EN
TZID:America/New_York
X-WR-TIMEZONE:America/New_York
BEGIN:VEVENT
UID:17318@goriverwalk.com
DTSTART;TZID=America/New_York:20240217T200000
DTEND;TZID=America/New_York:20240217T200000
DTSTAMP:20230905T015434Z
URL:https://www.goriverwalk.com/greater-fort-lauderdale-events/gilberto-sa
 nta-rosa-3
SUMMARY:Gilberto Santa Rosa
DESCRIPTION:One of the most outstanding performers of tropical music worldw
 ide
ATTACH;FMTTYPE=image/jpeg:https://www.goriverwalk.com/wp-content/uploads/2
 023/08/Gilberto-Santa-Rosa-e1693878780140.png
CATEGORIES:Music
LOCATION:Hard Rock Live at Seminole Hard Rock Hotel & Casino\, 1 Seminole W
 ay\, Hollywood\, Florida\, 33314\, United States
GEO:26.0525928;-80.21242110000003
X-APPLE-STRUCTURED-LOCATION;VALUE=URI;X-ADDRESS=1 Seminole Way\, Hollywood\
 , Florida\, 33314\, United States;X-APPLE-RADIUS=100;X-TITLE=Hard Rock Liv
 e at Seminole Hard Rock Hotel & Casino:geo:26.0525928,-80.21242110000003
END:VEVENT
BEGIN:VTIMEZONE
TZID:America/New_York
X-LIC-LOCATION:America/New_York
BEGIN:STANDARD
DTSTART:20231105T010000
TZOFFSETFROM:-0400
TZOFFSETTO:-0500
TZNAME:EST
END:STANDARD
END:VTIMEZONE
END:VCALENDAR