BEGIN:VCALENDAR
VERSION:2.0
PRODID:-//wp-events-plugin.com//7.2.3.1//EN
TZID:America/New_York
X-WR-TIMEZONE:America/New_York
BEGIN:VEVENT
UID:6691@goriverwalk.com
DTSTART;TZID=America/New_York:20190110T080000
DTEND;TZID=America/New_York:20190110T094500
DTSTAMP:20190108T202407Z
URL:https://www.goriverwalk.com/greater-fort-lauderdale-events/gflglcc-qua
 rterly-networking-breakfast
SUMMARY:GFLGLCC Quarterly Networking Breakfast
DESCRIPTION:Presented by Northwestern Mutual - Striano Financial
ATTACH;FMTTYPE=image/jpeg:https://www.goriverwalk.com/wp-content/uploads/2
 019/01/EventPhotoFull_Lindas20Breakfast201-10-19.jpg
CATEGORIES:Business
LOCATION:The Westin Fort Lauderdale\, 400 Corporate Drive \, Fort Lauderdal
 e \, FL\, 33334\, United States
GEO:26.2052957;-80.1394565
X-APPLE-STRUCTURED-LOCATION;VALUE=URI;X-ADDRESS=400 Corporate Drive \, Fort
  Lauderdale \, FL\, 33334\, United States;X-APPLE-RADIUS=100;X-TITLE=The W
 estin Fort Lauderdale:geo:26.2052957,-80.1394565
END:VEVENT
BEGIN:VTIMEZONE
TZID:America/New_York
X-LIC-LOCATION:America/New_York
BEGIN:STANDARD
DTSTART:20181104T010000
TZOFFSETFROM:-0400
TZOFFSETTO:-0500
TZNAME:EST
END:STANDARD
END:VTIMEZONE
END:VCALENDAR