BEGIN:VCALENDAR
VERSION:2.0
PRODID:-//wp-events-plugin.com//7.2.3.1//EN
TZID:America/New_York
X-WR-TIMEZONE:America/New_York
BEGIN:VEVENT
UID:5647@goriverwalk.com
DTSTART;TZID=America/New_York:20180821T173000
DTEND;TZID=America/New_York:20180821T193000
DTSTAMP:20180815T203802Z
URL:https://www.goriverwalk.com/greater-fort-lauderdale-events/gflglcc-aug
 ust-mixer
SUMMARY:GFLGLCC August Mixer
DESCRIPTION:A great networking opportunity!
ATTACH;FMTTYPE=image/jpeg:https://www.goriverwalk.com/wp-content/uploads/2
 018/08/GFLGLCC_August-Mixer-B-Ocean-.jpg
CATEGORIES:Business,Cocktail
LOCATION:B Ocean \, 1140 Seabreeze Blvd\, Fort Lauderdale\, FL\, 33316\, Un
 ited States
GEO:26.108130;-80.106232
X-APPLE-STRUCTURED-LOCATION;VALUE=URI;X-ADDRESS=1140 Seabreeze Blvd\, Fort 
 Lauderdale\, FL\, 33316\, United States;X-APPLE-RADIUS=100;X-TITLE=B Ocean
  :geo:26.108130,-80.106232
END:VEVENT
BEGIN:VTIMEZONE
TZID:America/New_York
X-LIC-LOCATION:America/New_York
BEGIN:DAYLIGHT
DTSTART:20180311T030000
TZOFFSETFROM:-0500
TZOFFSETTO:-0400
TZNAME:EDT
END:DAYLIGHT
END:VTIMEZONE
END:VCALENDAR