BEGIN:VCALENDAR
VERSION:2.0
PRODID:-//wp-events-plugin.com//7.2.3.1//EN
TZID:America/New_York
X-WR-TIMEZONE:America/New_York
BEGIN:VEVENT
UID:7323@goriverwalk.com
DTSTART;TZID=America/New_York:20190610T190000
DTEND;TZID=America/New_York:20190610T213000
DTSTAMP:20190501T180800Z
URL:https://www.goriverwalk.com/greater-fort-lauderdale-events/getting-pai
 d-to-talk-an-intro-to-professional-voice-overs-4
SUMMARY:Getting Paid to Talk: An Intro to Professional Voice Overs
DESCRIPTION:Insights to a new career
ATTACH;FMTTYPE=image/jpeg:https://www.goriverwalk.com/wp-content/uploads/2
 017/11/Default-calendar.jpg
CATEGORIES:Education
LOCATION:Holiday Inn Fort Lauderdale Airport West\, 2450 Davie Road\, Davie
 \, FL\, 33317\, United States
GEO:26.0911489;-80.22686799999997
X-APPLE-STRUCTURED-LOCATION;VALUE=URI;X-ADDRESS=2450 Davie Road\, Davie\, F
 L\, 33317\, United States;X-APPLE-RADIUS=100;X-TITLE=Holiday Inn Fort Laud
 erdale Airport West:geo:26.0911489,-80.22686799999997
END:VEVENT
BEGIN:VTIMEZONE
TZID:America/New_York
X-LIC-LOCATION:America/New_York
BEGIN:DAYLIGHT
DTSTART:20190310T030000
TZOFFSETFROM:-0500
TZOFFSETTO:-0400
TZNAME:EDT
END:DAYLIGHT
END:VTIMEZONE
END:VCALENDAR