BEGIN:VCALENDAR
VERSION:2.0
PRODID:-//wp-events-plugin.com//7.2.3.1//EN
TZID:America/New_York
X-WR-TIMEZONE:America/New_York
BEGIN:VEVENT
UID:3637@goriverwalk.com
DTSTART;TZID=America/New_York;VALUE=DATE:20171109
DTEND;TZID=America/New_York;VALUE=DATE:20180102
DTSTAMP:20171113T135550Z
URL:https://www.goriverwalk.com/greater-fort-lauderdale-events/get-lit-kic
 k-off-to-light-up-lauderdale-2
SUMMARY:Light Up Lauderdale
DESCRIPTION:Enjoy the picturesque views along the Riverwalk during the 10 w
 eeks of Light Up Lauderdale. Click here for more details.
ATTACH;FMTTYPE=image/jpeg:https://www.goriverwalk.com/wp-content/uploads/2
 017/10/LUL-square-graphic.jpg
CATEGORIES:Community,Holiday,Riverwalk Front Page,Riverwalk Happenings
LOCATION:Esplanade Park\, 400 SW 2nd Street\, Fort Lauderdale\, Florida\, 3
 3312\, United States
GEO:26.120046;-80.14795199999998
X-APPLE-STRUCTURED-LOCATION;VALUE=URI;X-ADDRESS=400 SW 2nd Street\, Fort La
 uderdale\, Florida\, 33312\, United States;X-APPLE-RADIUS=100;X-TITLE=Espl
 anade Park:geo:26.120046,-80.14795199999998
END:VEVENT
BEGIN:VTIMEZONE
TZID:America/New_York
X-LIC-LOCATION:America/New_York
BEGIN:STANDARD
DTSTART:20171105T010000
TZOFFSETFROM:-0400
TZOFFSETTO:-0500
TZNAME:EST
END:STANDARD
END:VTIMEZONE
END:VCALENDAR