BEGIN:VCALENDAR
VERSION:2.0
PRODID:-//wp-events-plugin.com//7.2.3.1//EN
TZID:America/New_York
X-WR-TIMEZONE:America/New_York
BEGIN:VEVENT
UID:4799@goriverwalk.com
DTSTART;TZID=America/New_York:20180512T110000
DTEND;TZID=America/New_York:20180512T140000
DTSTAMP:20180504T191924Z
URL:https://www.goriverwalk.com/greater-fort-lauderdale-events/galleria-lo
 fts-pet-appreciation-and-puppy-adoption-event-fundraiser
SUMMARY:Galleria Lofts Pet Appreciation and Puppy Adoption Event & Fundrais
 er
DESCRIPTION:Potential adopters must fill out a form 24 hours in advance
ATTACH;FMTTYPE=image/jpeg:https://www.goriverwalk.com/wp-content/uploads/2
 017/11/Default-calendar.jpg
CATEGORIES:Fundraiser
LOCATION:Galleria Lofts\, 1005 N Federal Hwy\, Fort Lauderdale\, FL\, 33304
 \, United States
GEO:26.13819;-80.12190099999998
X-APPLE-STRUCTURED-LOCATION;VALUE=URI;X-ADDRESS=1005 N Federal Hwy\, Fort L
 auderdale\, FL\, 33304\, United States;X-APPLE-RADIUS=100;X-TITLE=Galleria
  Lofts:geo:26.13819,-80.12190099999998
END:VEVENT
BEGIN:VTIMEZONE
TZID:America/New_York
X-LIC-LOCATION:America/New_York
BEGIN:DAYLIGHT
DTSTART:20180311T030000
TZOFFSETFROM:-0500
TZOFFSETTO:-0400
TZNAME:EDT
END:DAYLIGHT
END:VTIMEZONE
END:VCALENDAR