BEGIN:VCALENDAR
VERSION:2.0
PRODID:-//wp-events-plugin.com//7.2.3.1//EN
TZID:America/New_York
X-WR-TIMEZONE:America/New_York
BEGIN:VEVENT
UID:17177@goriverwalk.com
DTSTART;TZID=America/New_York:20230729T180000
DTEND;TZID=America/New_York:20230729T200000
DTSTAMP:20230705T221431Z
URL:https://www.goriverwalk.com/greater-fort-lauderdale-events/future-past
 -perfect
SUMMARY:Future Past Perfect
DESCRIPTION:Exhibit Preview Reception
ATTACH;FMTTYPE=image/jpeg:https://www.goriverwalk.com/wp-content/uploads/2
 023/06/Kandy-tiny-e1688595198885.jpg
CATEGORIES:Art
LOCATION:NSU Art Museum\, One East Las Olas Boulevard\, Fort Lauderdale\, F
 L\, 33301\, Broward County\, United States
X-APPLE-STRUCTURED-LOCATION;VALUE=URI;X-ADDRESS=One East Las Olas Boulevard
 \, Fort Lauderdale\, FL\, 33301\, Broward County\, United States;X-APPLE-R
 ADIUS=100;X-TITLE=NSU Art Museum:geo:0,0
END:VEVENT
BEGIN:VTIMEZONE
TZID:America/New_York
X-LIC-LOCATION:America/New_York
BEGIN:DAYLIGHT
DTSTART:20230312T030000
TZOFFSETFROM:-0500
TZOFFSETTO:-0400
TZNAME:EDT
END:DAYLIGHT
END:VTIMEZONE
END:VCALENDAR