BEGIN:VCALENDAR
VERSION:2.0
PRODID:-//wp-events-plugin.com//7.2.3.1//EN
TZID:America/New_York
X-WR-TIMEZONE:America/New_York
BEGIN:VEVENT
UID:19342@goriverwalk.com
DTSTART;TZID=America/New_York:20240720T193000
DTEND;TZID=America/New_York:20240720T213000
DTSTAMP:20240701T143324Z
URL:https://www.goriverwalk.com/greater-fort-lauderdale-events/full-moon-c
 oncert
SUMMARY:Full Moon Concert
DESCRIPTION:Guitar and cello performance
ATTACH;FMTTYPE=image/jpeg:https://www.goriverwalk.com/wp-content/uploads/2
 024/06/7-20-24-full-moon.avif
CATEGORIES:Music
LOCATION:L.A. Lee YMCA/Mizell Community Center\, 1409 NW Sistrunk Boulevard
 \, Fort Lauderdale\, FL\, 33311\, United States
X-APPLE-STRUCTURED-LOCATION;VALUE=URI;X-ADDRESS=1409 NW Sistrunk Boulevard\
 , Fort Lauderdale\, FL\, 33311\, United States;X-APPLE-RADIUS=100;X-TITLE=
 L.A. Lee YMCA/Mizell Community Center:geo:0,0
END:VEVENT
BEGIN:VTIMEZONE
TZID:America/New_York
X-LIC-LOCATION:America/New_York
BEGIN:DAYLIGHT
DTSTART:20240310T030000
TZOFFSETFROM:-0500
TZOFFSETTO:-0400
TZNAME:EDT
END:DAYLIGHT
END:VTIMEZONE
END:VCALENDAR