BEGIN:VCALENDAR
VERSION:2.0
PRODID:-//wp-events-plugin.com//7.2.3.1//EN
TZID:America/New_York
X-WR-TIMEZONE:America/New_York
BEGIN:VEVENT
UID:10836@goriverwalk.com
DTSTART;TZID=America/New_York:20210226T180000
DTEND;TZID=America/New_York:20221231T230000
DTSTAMP:20220727T133102Z
URL:https://www.goriverwalk.com/greater-fort-lauderdale-events/ftl-art-wal
 k
SUMMARY:FTL Art Walk
DESCRIPTION:Monthly Art Walk
ATTACH;FMTTYPE=image/jpeg:https://www.goriverwalk.com/wp-content/uploads/2
 021/02/MASS-District-Art-Walk-Black-sq.png
CATEGORIES:Art
LOCATION:MASS District\, 844 NE 4th Ave\, Fort Lauderdale\, FL\, 33304\, Un
 ited States
GEO:26.1346145;-80.13996889999999
X-APPLE-STRUCTURED-LOCATION;VALUE=URI;X-ADDRESS=844 NE 4th Ave\, Fort Laude
 rdale\, FL\, 33304\, United States;X-APPLE-RADIUS=100;X-TITLE=MASS Distric
 t:geo:26.1346145,-80.13996889999999
END:VEVENT
BEGIN:VTIMEZONE
TZID:America/New_York
X-LIC-LOCATION:America/New_York
BEGIN:STANDARD
DTSTART:20201101T010000
TZOFFSETFROM:-0400
TZOFFSETTO:-0500
TZNAME:EST
END:STANDARD
BEGIN:DAYLIGHT
DTSTART:20210314T030000
TZOFFSETFROM:-0500
TZOFFSETTO:-0400
TZNAME:EDT
END:DAYLIGHT
BEGIN:STANDARD
DTSTART:20211107T010000
TZOFFSETFROM:-0400
TZOFFSETTO:-0500
TZNAME:EST
END:STANDARD
BEGIN:DAYLIGHT
DTSTART:20220313T030000
TZOFFSETFROM:-0500
TZOFFSETTO:-0400
TZNAME:EDT
END:DAYLIGHT
BEGIN:STANDARD
DTSTART:20221106T010000
TZOFFSETFROM:-0400
TZOFFSETTO:-0500
TZNAME:EST
END:STANDARD
END:VTIMEZONE
END:VCALENDAR