BEGIN:VCALENDAR
VERSION:2.0
PRODID:-//wp-events-plugin.com//7.2.3.1//EN
TZID:America/New_York
X-WR-TIMEZONE:America/New_York
BEGIN:VEVENT
UID:5927@goriverwalk.com
DTSTART;TZID=America/New_York:20181029T073000
DTEND;TZID=America/New_York:20181029T103000
DTSTAMP:20181008T155749Z
URL:https://www.goriverwalk.com/greater-fort-lauderdale-events/ft-lauderda
 le-mini-beach-sweep-yoga-vibes
SUMMARY:Ft Lauderdale Mini Beach Sweep & Yoga Vibes
DESCRIPTION:Keep the beaches clean!
ATTACH;FMTTYPE=image/jpeg:https://www.goriverwalk.com/wp-content/uploads/2
 018/10/YA1MdE4.jpg
CATEGORIES:Community
LOCATION:fort lauderdale beach yoga &amp\; fitness\, 870 North Fort Lauderd
 ale Beach Boulevard\, Ft Lauderdale\, Florida\, 33316\, United States
GEO:26.135992;-80.103111
X-APPLE-STRUCTURED-LOCATION;VALUE=URI;X-ADDRESS=870 North Fort Lauderdale B
 each Boulevard\, Ft Lauderdale\, Florida\, 33316\, United States;X-APPLE-R
 ADIUS=100;X-TITLE=fort lauderdale beach yoga & fitness:geo:26.135992,-80.1
 03111
END:VEVENT
BEGIN:VTIMEZONE
TZID:America/New_York
X-LIC-LOCATION:America/New_York
BEGIN:DAYLIGHT
DTSTART:20180311T030000
TZOFFSETFROM:-0500
TZOFFSETTO:-0400
TZNAME:EDT
END:DAYLIGHT
END:VTIMEZONE
END:VCALENDAR