BEGIN:VCALENDAR
VERSION:2.0
PRODID:-//wp-events-plugin.com//7.2.3.1//EN
TZID:America/New_York
X-WR-TIMEZONE:America/New_York
BEGIN:VEVENT
UID:14619@goriverwalk.com
DTSTART;TZID=America/New_York:20221112T083000
DTEND;TZID=America/New_York:20221112T120000
DTSTAMP:20220902T195240Z
URL:https://www.goriverwalk.com/greater-fort-lauderdale-events/ft-lauderda
 le-kidney-walk
SUMMARY:Ft. Lauderdale Kidney Walk
DESCRIPTION:Raising awareness about the disease
ATTACH;FMTTYPE=image/jpeg:https://www.goriverwalk.com/wp-content/uploads/2
 022/07/Ft-Lauderdale-Walk-Poster1-e1662148349161.jpg
CATEGORIES:Fundraiser
LOCATION:Plantation Central Park\, 9151 NW 2nd Street\, Plantation\, FL\, 3
 3324\, United States
X-APPLE-STRUCTURED-LOCATION;VALUE=URI;X-ADDRESS=9151 NW 2nd Street\, Planta
 tion\, FL\, 33324\, United States;X-APPLE-RADIUS=100;X-TITLE=Plantation Ce
 ntral Park:geo:0,0
END:VEVENT
BEGIN:VTIMEZONE
TZID:America/New_York
X-LIC-LOCATION:America/New_York
BEGIN:STANDARD
DTSTART:20221106T010000
TZOFFSETFROM:-0400
TZOFFSETTO:-0500
TZNAME:EST
END:STANDARD
END:VTIMEZONE
END:VCALENDAR