BEGIN:VCALENDAR
VERSION:2.0
PRODID:-//wp-events-plugin.com//7.2.3.1//EN
TZID:America/New_York
X-WR-TIMEZONE:America/New_York
BEGIN:VEVENT
UID:4893@goriverwalk.com
DTSTART;TZID=America/New_York:20180603T100000
DTEND;TZID=America/New_York:20180603T150000
DTSTAMP:20180530T204303Z
URL:https://www.goriverwalk.com/greater-fort-lauderdale-events/free-hurric
 ane-preparedness-workshops-2
SUMMARY:Free Hurricane Preparedness Workshops
DESCRIPTION:During the annual Disaster Preparedness Sales Tax Holiday
ATTACH;FMTTYPE=image/jpeg:https://www.goriverwalk.com/wp-content/uploads/2
 017/11/Default-calendar.jpg
CATEGORIES:Education
LOCATION:Orchard Supply Hardware\, 2871 N Federal Highway\, Fort Lauderdale
 \, FL\, 33306\, United States
GEO:26.1640254;-80.11627850000002
X-APPLE-STRUCTURED-LOCATION;VALUE=URI;X-ADDRESS=2871 N Federal Highway\, Fo
 rt Lauderdale\, FL\, 33306\, United States;X-APPLE-RADIUS=100;X-TITLE=Orch
 ard Supply Hardware:geo:26.1640254,-80.11627850000002
END:VEVENT
BEGIN:VTIMEZONE
TZID:America/New_York
X-LIC-LOCATION:America/New_York
BEGIN:DAYLIGHT
DTSTART:20180311T030000
TZOFFSETFROM:-0500
TZOFFSETTO:-0400
TZNAME:EDT
END:DAYLIGHT
END:VTIMEZONE
END:VCALENDAR