BEGIN:VCALENDAR
VERSION:2.0
PRODID:-//wp-events-plugin.com//7.2.3.1//EN
TZID:America/New_York
X-WR-TIMEZONE:America/New_York
BEGIN:VEVENT
UID:4629@goriverwalk.com
DTSTART;TZID=America/New_York:20180421T100000
DTEND;TZID=America/New_York:20180421T140000
DTSTAMP:20180417T170045Z
URL:https://www.goriverwalk.com/greater-fort-lauderdale-events/free-health
 -and-wellness-day
SUMMARY:Free Health and Wellness Day
DESCRIPTION:Also learn about Florida KidCare coverage
ATTACH;FMTTYPE=image/jpeg:https://www.goriverwalk.com/wp-content/uploads/2
 018/04/Florida_KidCare.jpg
CATEGORIES:Health
LOCATION:Walmart Supercenter\, 2500 W. Broward Boulevard\, Fort Lauderdale\
 , Florida\, 33312\, United States
GEO:26.1191795;-80.17504659999997
X-APPLE-STRUCTURED-LOCATION;VALUE=URI;X-ADDRESS=2500 W. Broward Boulevard\,
  Fort Lauderdale\, Florida\, 33312\, United States;X-APPLE-RADIUS=100;X-TI
 TLE=Walmart Supercenter:geo:26.1191795,-80.17504659999997
END:VEVENT
BEGIN:VTIMEZONE
TZID:America/New_York
X-LIC-LOCATION:America/New_York
BEGIN:DAYLIGHT
DTSTART:20180311T030000
TZOFFSETFROM:-0500
TZOFFSETTO:-0400
TZNAME:EDT
END:DAYLIGHT
END:VTIMEZONE
END:VCALENDAR