BEGIN:VCALENDAR
VERSION:2.0
PRODID:-//wp-events-plugin.com//7.2.3.1//EN
TZID:America/New_York
X-WR-TIMEZONE:America/New_York
BEGIN:VEVENT
UID:19650@goriverwalk.com
DTSTART;TZID=America/New_York:20241004T173000
DTEND;TZID=America/New_York:20241004T203000
DTSTAMP:20240911T161227Z
URL:https://www.goriverwalk.com/greater-fort-lauderdale-events/free-art-ex
 hibit-artserve-local-artists
SUMMARY:Free Art Exhibit--ArtServe Local Artists
DESCRIPTION:What do artist's wish their artistic legacy will be?\n
ATTACH;FMTTYPE=image/jpeg:https://www.goriverwalk.com/wp-content/uploads/2
 024/09/10-4-24-Anthro-Delight.jpg
CATEGORIES:Art,Community,Free
LOCATION:ArtServe\, 1350 E. Sunrise Blvd.\, Fort Lauderdale\, FL\, 33304\, 
 Broward\, United States
GEO:26.136778;-80.1302407
X-APPLE-STRUCTURED-LOCATION;VALUE=URI;X-ADDRESS=1350 E. Sunrise Blvd.\, For
 t Lauderdale\, FL\, 33304\, Broward\, United States;X-APPLE-RADIUS=100;X-T
 ITLE=ArtServe:geo:26.136778,-80.1302407
END:VEVENT
BEGIN:VTIMEZONE
TZID:America/New_York
X-LIC-LOCATION:America/New_York
BEGIN:DAYLIGHT
DTSTART:20240310T030000
TZOFFSETFROM:-0500
TZOFFSETTO:-0400
TZNAME:EDT
END:DAYLIGHT
END:VTIMEZONE
END:VCALENDAR