BEGIN:VCALENDAR
VERSION:2.0
PRODID:-//wp-events-plugin.com//7.2.3.1//EN
TZID:America/New_York
X-WR-TIMEZONE:America/New_York
BEGIN:VEVENT
UID:18593@goriverwalk.com
DTSTART;TZID=America/New_York:20240209T200000
DTEND;TZID=America/New_York:20240209T213000
DTSTAMP:20240131T161835Z
URL:https://www.goriverwalk.com/greater-fort-lauderdale-events/fort-liquor
 -tales-water-taxi-tour
SUMMARY:Fort Liquor Tales Water Taxi Tour
DESCRIPTION:Enjoy a thrilling escapade filled with secret tales.
ATTACH;FMTTYPE=image/jpeg:https://www.goriverwalk.com/wp-content/uploads/2
 024/01/Untitled-design-26.png
CATEGORIES:History
LOCATION:Historic Stranahan House Museum\, 335 SE 6th Avenue\, Fort Lauderd
 ale\, FL\, 33301\, United States
GEO:26.1184605;-80.13749680000001
X-APPLE-STRUCTURED-LOCATION;VALUE=URI;X-ADDRESS=335 SE 6th Avenue\, Fort La
 uderdale\, FL\, 33301\, United States;X-APPLE-RADIUS=100;X-TITLE=Historic 
 Stranahan House Museum:geo:26.1184605,-80.13749680000001
END:VEVENT
BEGIN:VTIMEZONE
TZID:America/New_York
X-LIC-LOCATION:America/New_York
BEGIN:STANDARD
DTSTART:20231105T010000
TZOFFSETFROM:-0400
TZOFFSETTO:-0500
TZNAME:EST
END:STANDARD
END:VTIMEZONE
END:VCALENDAR