BEGIN:VCALENDAR
VERSION:2.0
PRODID:-//wp-events-plugin.com//7.2.3.1//EN
TZID:America/New_York
X-WR-TIMEZONE:America/New_York
BEGIN:VEVENT
UID:4253@goriverwalk.com
DTSTART;TZID=America/New_York:20180330T193000
DTEND;TZID=America/New_York:20180330T220000
DTSTAMP:20180219T191450Z
URL:https://www.goriverwalk.com/greater-fort-lauderdale-events/fort-lauder
 dale-story-slam-5
SUMMARY:Fort Lauderdale Story Slam
DESCRIPTION:The theme of the evening is "Reasons I Didn’t Come Home"
ATTACH;FMTTYPE=image/jpeg:https://www.goriverwalk.com/wp-content/uploads/2
 018/02/MAR-square-2-300x300.jpg
CATEGORIES:Theater
LOCATION:The Vanguard Sanctuary for the Arts\, 1501 S Andrews Ave\, Fort La
 uderdale\, FL\, 33316\, United States
GEO:26.1030323;-80.14305279999996
X-APPLE-STRUCTURED-LOCATION;VALUE=URI;X-ADDRESS=1501 S Andrews Ave\, Fort L
 auderdale\, FL\, 33316\, United States;X-APPLE-RADIUS=100;X-TITLE=The Vang
 uard Sanctuary for the Arts:geo:26.1030323,-80.14305279999996
END:VEVENT
BEGIN:VTIMEZONE
TZID:America/New_York
X-LIC-LOCATION:America/New_York
BEGIN:DAYLIGHT
DTSTART:20180311T030000
TZOFFSETFROM:-0500
TZOFFSETTO:-0400
TZNAME:EDT
END:DAYLIGHT
END:VTIMEZONE
END:VCALENDAR