BEGIN:VCALENDAR
VERSION:2.0
PRODID:-//wp-events-plugin.com//7.2.3.1//EN
TZID:America/New_York
X-WR-TIMEZONE:America/New_York
BEGIN:VEVENT
UID:5160@goriverwalk.com
DTSTART;TZID=America/New_York:20180913T110000
DTEND;TZID=America/New_York:20180913T140000
DTSTAMP:20180904T190408Z
URL:https://www.goriverwalk.com/greater-fort-lauderdale-events/fort-lauder
 dale-job-fair
SUMMARY:FORT LAUDERDALE JOB FAIR
DESCRIPTION:Meeting hiring managers from top companies
ATTACH;FMTTYPE=image/jpeg:https://www.goriverwalk.com/wp-content/uploads/2
 018/07/BHCF.png
CATEGORIES:Business
LOCATION:Crowne Plaza Fort Lauderdale Airport\, 455 State Road 84\, Fort La
 uderdale\, FL\, 33316\, United States
GEO:26.0930438;-80.13787030000003
X-APPLE-STRUCTURED-LOCATION;VALUE=URI;X-ADDRESS=455 State Road 84\, Fort La
 uderdale\, FL\, 33316\, United States;X-APPLE-RADIUS=100;X-TITLE=Crowne Pl
 aza Fort Lauderdale Airport:geo:26.0930438,-80.13787030000003
END:VEVENT
BEGIN:VTIMEZONE
TZID:America/New_York
X-LIC-LOCATION:America/New_York
BEGIN:DAYLIGHT
DTSTART:20180311T030000
TZOFFSETFROM:-0500
TZOFFSETTO:-0400
TZNAME:EDT
END:DAYLIGHT
END:VTIMEZONE
END:VCALENDAR