BEGIN:VCALENDAR
VERSION:2.0
PRODID:-//wp-events-plugin.com//7.2.3.1//EN
TZID:America/New_York
X-WR-TIMEZONE:America/New_York
BEGIN:VEVENT
UID:22206@goriverwalk.com
DTSTART;TZID=America/New_York:20260129T000000
DTEND;TZID=America/New_York:20260201T000000
DTSTAMP:20260122T190432Z
URL:https://www.goriverwalk.com/greater-fort-lauderdale-events/fort-lauder
 dale-greek-festival-2
SUMMARY:Fort Lauderdale Greek Festival
DESCRIPTION:The largest and happiest party given by Greek Americans in Fort
  Lauderdale
ATTACH;FMTTYPE=image/jpeg:https://www.goriverwalk.com/wp-content/uploads/2
 026/01/1.29.26-greek-festival.png
CATEGORIES:Children,Community,Cultural,Festival,Food
LOCATION:St. Demetrios Church\, 815 NE 15 Avenue\, Fort Lauderdale\, FL\, 3
 3304\, United States
GEO:26.1343713;-80.129276
X-APPLE-STRUCTURED-LOCATION;VALUE=URI;X-ADDRESS=815 NE 15 Avenue\, Fort Lau
 derdale\, FL\, 33304\, United States;X-APPLE-RADIUS=100;X-TITLE=St. Demetr
 ios Church:geo:26.1343713,-80.129276
END:VEVENT
BEGIN:VTIMEZONE
TZID:America/New_York
X-LIC-LOCATION:America/New_York
BEGIN:STANDARD
DTSTART:20251102T010000
TZOFFSETFROM:-0400
TZOFFSETTO:-0500
TZNAME:EST
END:STANDARD
END:VTIMEZONE
END:VCALENDAR