BEGIN:VCALENDAR
VERSION:2.0
PRODID:-//wp-events-plugin.com//7.2.3.1//EN
TZID:America/New_York
X-WR-TIMEZONE:America/New_York
BEGIN:VEVENT
UID:2268@goriverwalk.com
DTSTART;TZID=America/New_York:20160507T070000
DTEND;TZID=America/New_York:20160508T070000
DTSTAMP:20160324T155419Z
URL:https://www.goriverwalk.com/greater-fort-lauderdale-events/fort-lauder
 dale-air-show
SUMMARY:Fort Lauderdale Air Show
DESCRIPTION:The first civilian air show in history to feature an F-35 Light
 ning II flight performance.
ATTACH;FMTTYPE=image/jpeg:https://www.goriverwalk.com/wp-content/uploads/2
 015/12/Default-calendar-1.jpg
CATEGORIES:Holiday
LOCATION:Fort Lauderdale Beach Park\, 1000 Seabreeze Boulevard\, Fort Laude
 rdale\, Florida\, 33316\, United States
GEO:26.110613;-80.10585200000003
X-APPLE-STRUCTURED-LOCATION;VALUE=URI;X-ADDRESS=1000 Seabreeze Boulevard\, 
 Fort Lauderdale\, Florida\, 33316\, United States;X-APPLE-RADIUS=100;X-TIT
 LE=Fort Lauderdale Beach Park:geo:26.110613,-80.10585200000003
END:VEVENT
BEGIN:VTIMEZONE
TZID:America/New_York
X-LIC-LOCATION:America/New_York
BEGIN:DAYLIGHT
DTSTART:20160313T030000
TZOFFSETFROM:-0500
TZOFFSETTO:-0400
TZNAME:EDT
END:DAYLIGHT
END:VTIMEZONE
END:VCALENDAR