BEGIN:VCALENDAR
VERSION:2.0
PRODID:-//wp-events-plugin.com//7.2.3.1//EN
TZID:America/New_York
X-WR-TIMEZONE:America/New_York
BEGIN:VEVENT
UID:17667@goriverwalk.com
DTSTART;TZID=America/New_York:20231006T180000
DTEND;TZID=America/New_York:20231215T230000
DTSTAMP:20231017T160246Z
URL:https://www.goriverwalk.com/greater-fort-lauderdale-events/food-in-mot
 ion-4
SUMMARY:Food in Motion
DESCRIPTION:First & Third Fridays monthly
ATTACH;FMTTYPE=image/jpeg:https://www.goriverwalk.com/wp-content/uploads/2
 023/10/10.6.23-Food-in-Motion.jpg
CATEGORIES:Art,Community,Food,Music
LOCATION:Esplanade Park\, 400 SW 2nd Street\, Fort Lauderdale\, Florida\, 3
 3312\, United States
GEO:26.120046;-80.14795199999998
X-APPLE-STRUCTURED-LOCATION;VALUE=URI;X-ADDRESS=400 SW 2nd Street\, Fort La
 uderdale\, Florida\, 33312\, United States;X-APPLE-RADIUS=100;X-TITLE=Espl
 anade Park:geo:26.120046,-80.14795199999998
END:VEVENT
BEGIN:VTIMEZONE
TZID:America/New_York
X-LIC-LOCATION:America/New_York
BEGIN:DAYLIGHT
DTSTART:20230312T030000
TZOFFSETFROM:-0500
TZOFFSETTO:-0400
TZNAME:EDT
END:DAYLIGHT
BEGIN:STANDARD
DTSTART:20231105T010000
TZOFFSETFROM:-0400
TZOFFSETTO:-0500
TZNAME:EST
END:STANDARD
END:VTIMEZONE
END:VCALENDAR