BEGIN:VCALENDAR
VERSION:2.0
PRODID:-//wp-events-plugin.com//7.2.3.1//EN
TZID:America/New_York
X-WR-TIMEZONE:America/New_York
BEGIN:VEVENT
UID:16164@goriverwalk.com
DTSTART;TZID=America/New_York:20230210T180000
DTEND;TZID=America/New_York:20230714T230000
DTSTAMP:20230903T231711Z
URL:https://www.goriverwalk.com/greater-fort-lauderdale-events/food-in-mot
 ion-2
SUMMARY:Food In Motion
DESCRIPTION:Food trucks and street market
ATTACH;FMTTYPE=image/jpeg:https://www.goriverwalk.com/wp-content/uploads/2
 023/01/02.10-12.08.23-Food-in-Motion.jpg
CATEGORIES:Art,Business,Cocktail,Community,Cultural,Festival,Food,Networki
 ng
LOCATION:Peter Feldman Park\, 310 NE 6th Street\, Fort Lauderdale\, FL\, 33
 304\, United States
GEO:26.1297321;-80.14009550000003
X-APPLE-STRUCTURED-LOCATION;VALUE=URI;X-ADDRESS=310 NE 6th Street\, Fort La
 uderdale\, FL\, 33304\, United States;X-APPLE-RADIUS=100;X-TITLE=Peter Fel
 dman Park:geo:26.1297321,-80.14009550000003
END:VEVENT
BEGIN:VTIMEZONE
TZID:America/New_York
X-LIC-LOCATION:America/New_York
BEGIN:STANDARD
DTSTART:20221106T010000
TZOFFSETFROM:-0400
TZOFFSETTO:-0500
TZNAME:EST
END:STANDARD
BEGIN:DAYLIGHT
DTSTART:20230312T030000
TZOFFSETFROM:-0500
TZOFFSETTO:-0400
TZNAME:EDT
END:DAYLIGHT
END:VTIMEZONE
END:VCALENDAR