BEGIN:VCALENDAR
VERSION:2.0
PRODID:-//wp-events-plugin.com//7.2.3.1//EN
TZID:America/New_York
X-WR-TIMEZONE:America/New_York
BEGIN:VEVENT
UID:5653@goriverwalk.com
DTSTART;TZID=America/New_York:20180913T190000
DTEND;TZID=America/New_York:20180913T203000
DTSTAMP:20180815T185006Z
URL:https://www.goriverwalk.com/greater-fort-lauderdale-events/follow-myad
 venture-path-road-trek-journey-of-self-discovery
SUMMARY:Follow My…Adventure\, Path\, Road\, Trek\, Journey of Self Discov
 ery
DESCRIPTION:A Private Journal on Facebook by Drew Eric
ATTACH;FMTTYPE=image/jpeg:https://www.goriverwalk.com/wp-content/uploads/2
 018/08/Follow-My-Adventure.jpeg
CATEGORIES:Community,Hobby
LOCATION:Stonewall National Museum and Archives\, 1300 E Sunrise Blvd.\, Fo
 rt Lauderdale\, FL\, 33304\, FL\, United States
GEO:26.133956;-80.13248699999997
X-APPLE-STRUCTURED-LOCATION;VALUE=URI;X-ADDRESS=1300 E Sunrise Blvd.\, Fort
  Lauderdale\, FL\, 33304\, FL\, United States;X-APPLE-RADIUS=100;X-TITLE=S
 tonewall National Museum and Archives:geo:26.133956,-80.13248699999997
END:VEVENT
BEGIN:VTIMEZONE
TZID:America/New_York
X-LIC-LOCATION:America/New_York
BEGIN:DAYLIGHT
DTSTART:20180311T030000
TZOFFSETFROM:-0500
TZOFFSETTO:-0400
TZNAME:EDT
END:DAYLIGHT
END:VTIMEZONE
END:VCALENDAR