BEGIN:VCALENDAR
VERSION:2.0
PRODID:-//wp-events-plugin.com//7.2.3.1//EN
TZID:America/New_York
X-WR-TIMEZONE:America/New_York
BEGIN:VEVENT
UID:7187@goriverwalk.com
DTSTART;TZID=America/New_York:20190414T000000
DTEND;TZID=America/New_York:20190415T000000
DTSTAMP:20190410T150940Z
URL:https://www.goriverwalk.com/greater-fort-lauderdale-events/flower-in-t
 he-gun-art-exhibit-fundraiser
SUMMARY:Flower In The Gun - Art Exhibit & Fundraiser
DESCRIPTION:Art exhibit and fundraiser
ATTACH;FMTTYPE=image/jpeg:https://www.goriverwalk.com/wp-content/uploads/2
 019/04/MeetTheArtist_ArtExhibitFundraiser8x6.jpg
CATEGORIES:Art,Fundraiser
LOCATION:District 13\, 535 NE 13th Street\, Fort Lauderdale\, Florida\, 333
 04\, United States
GEO:26.1425834;-80.13810439999997
X-APPLE-STRUCTURED-LOCATION;VALUE=URI;X-ADDRESS=535 NE 13th Street\, Fort L
 auderdale\, Florida\, 33304\, United States;X-APPLE-RADIUS=100;X-TITLE=Dis
 trict 13:geo:26.1425834,-80.13810439999997
END:VEVENT
BEGIN:VTIMEZONE
TZID:America/New_York
X-LIC-LOCATION:America/New_York
BEGIN:DAYLIGHT
DTSTART:20190310T030000
TZOFFSETFROM:-0500
TZOFFSETTO:-0400
TZNAME:EDT
END:DAYLIGHT
END:VTIMEZONE
END:VCALENDAR