BEGIN:VCALENDAR
VERSION:2.0
PRODID:-//wp-events-plugin.com//7.2.3.1//EN
TZID:America/New_York
X-WR-TIMEZONE:America/New_York
BEGIN:VEVENT
UID:20644@goriverwalk.com
DTSTART;TZID=America/New_York:20250510T190000
DTEND;TZID=America/New_York:20250510T213000
DTSTAMP:20250407T165043Z
URL:https://www.goriverwalk.com/greater-fort-lauderdale-events/florida-sin
 ging-sons-spring-pops-concert
SUMMARY:Florida Singing Sons: Spring Pops Concert!
DESCRIPTION:Magical evening of music to celebrate our 50th anniversary
ATTACH;FMTTYPE=image/jpeg:https://www.goriverwalk.com/wp-content/uploads/2
 025/03/Spring-Concert-2025-540x540px.jpg
CATEGORIES:Music
LOCATION:Sunshine Cathedral\, 1480 SW 9th Ave \, Fort Lauderdale\, FL\, 333
 15\, United States
GEO:26.1033818;-80.15267069999999
X-APPLE-STRUCTURED-LOCATION;VALUE=URI;X-ADDRESS=1480 SW 9th Ave \, Fort Lau
 derdale\, FL\, 33315\, United States;X-APPLE-RADIUS=100;X-TITLE=Sunshine C
 athedral:geo:26.1033818,-80.15267069999999
END:VEVENT
BEGIN:VTIMEZONE
TZID:America/New_York
X-LIC-LOCATION:America/New_York
BEGIN:DAYLIGHT
DTSTART:20250309T030000
TZOFFSETFROM:-0500
TZOFFSETTO:-0400
TZNAME:EDT
END:DAYLIGHT
END:VTIMEZONE
END:VCALENDAR