BEGIN:VCALENDAR
VERSION:2.0
PRODID:-//wp-events-plugin.com//7.2.3.1//EN
TZID:America/New_York
X-WR-TIMEZONE:America/New_York
BEGIN:VEVENT
UID:22919@goriverwalk.com
DTSTART;TZID=America/New_York:20260516T190000
DTEND;TZID=America/New_York:20260516T213000
DTSTAMP:20260421T150437Z
URL:https://www.goriverwalk.com/greater-fort-lauderdale-events/florida-sin
 ging-sons-50th-spring-pops-concert
SUMMARY:Florida Singing Sons: 50th Spring Pops Concert!
DESCRIPTION:You’re invited to join Florida Singing Sons &amp\; Chorale So
 leil for a vibrant and celebratory evening at our Spring Pops Concert\, a
  special performance marking the culmination of our 50th anniversary seas
 on. This milestone concert celebrates five decades of musical excellence\,
  education\, and community through song.\n\nFeaturing Apprentice Choir\, C
 oncert Choir\, Second Generation Singers\, and Chorale Soleil\, the evenin
 g will showcase the extraordinary talent of our choristers in a dynamic pr
 ogram spanning classical favorites\, Broadway selections\, popular music\,
  and choral highlights that reflect both our history and our future.\n\nTh
 e concert takes place on Saturday\, May 16 at 7:00 PM at the colorful S
 unshine Cathedral. Join us for an inspiring night of music as we honor the
  legacy of Florida Singing Sons and look ahead to the next chapter of our 
 musical journey. Bring family and friends\, celebrate with us\, and be par
 t of this joyful season finale. We look forward to sharing this milestone 
 concert with you!\n\n&nbsp\;\n\nFor fifty years\, Florida Singing Sons has
  been a cornerstone of musical education in South Florida\, shaping thousa
 nds of young musicians through a rigorous and nurturing choral program. Wi
 th four ensembles serving students from second through twelfth grade\, FSS
  continues to exemplify the transformative power of choral music and the l
 asting impact of arts education.\n\nFor more information click here.
ATTACH;FMTTYPE=image/jpeg:https://www.goriverwalk.com/wp-content/uploads/2
 026/04/Florida-Singing-Sons-logo.png
CATEGORIES:Community,Music
LOCATION:Sunshine Cathedral\, 1480 SW 9th Ave \, Fort Lauderdale\, FL\, 333
 15\, United States
GEO:26.1033818;-80.15267069999999
X-APPLE-STRUCTURED-LOCATION;VALUE=URI;X-ADDRESS=1480 SW 9th Ave \, Fort Lau
 derdale\, FL\, 33315\, United States;X-APPLE-RADIUS=100;X-TITLE=Sunshine C
 athedral:geo:26.1033818,-80.15267069999999
END:VEVENT
BEGIN:VTIMEZONE
TZID:America/New_York
X-LIC-LOCATION:America/New_York
BEGIN:DAYLIGHT
DTSTART:20260308T030000
TZOFFSETFROM:-0500
TZOFFSETTO:-0400
TZNAME:EDT
END:DAYLIGHT
END:VTIMEZONE
END:VCALENDAR