BEGIN:VCALENDAR
VERSION:2.0
PRODID:-//wp-events-plugin.com//7.2.3.1//EN
TZID:America/New_York
X-WR-TIMEZONE:America/New_York
BEGIN:VEVENT
UID:8238@goriverwalk.com
DTSTART;TZID=America/New_York:20191020T160000
DTEND;TZID=America/New_York:20191020T173000
DTSTAMP:20190917T181536Z
URL:https://www.goriverwalk.com/greater-fort-lauderdale-events/florida-gra
 nd-opera-studio-artists
SUMMARY:Florida Grand Opera Studio Artists
DESCRIPTION:Performing a variety of musical styles
ATTACH;FMTTYPE=image/jpeg:https://www.goriverwalk.com/wp-content/uploads/2
 017/11/Default-calendar.jpg
CATEGORIES:Music
LOCATION:First Presbyterian Church of Fort Lauderdale\, 401 SE 15th Ave\, F
 ort Lauderdale\, Florida\, 33301\, United States
GEO:26.118063;-80.12893919999999
X-APPLE-STRUCTURED-LOCATION;VALUE=URI;X-ADDRESS=401 SE 15th Ave\, Fort Laud
 erdale\, Florida\, 33301\, United States;X-APPLE-RADIUS=100;X-TITLE=First 
 Presbyterian Church of Fort Lauderdale:geo:26.118063,-80.12893919999999
END:VEVENT
BEGIN:VTIMEZONE
TZID:America/New_York
X-LIC-LOCATION:America/New_York
BEGIN:DAYLIGHT
DTSTART:20190310T030000
TZOFFSETFROM:-0500
TZOFFSETTO:-0400
TZNAME:EDT
END:DAYLIGHT
END:VTIMEZONE
END:VCALENDAR