BEGIN:VCALENDAR
VERSION:2.0
PRODID:-//wp-events-plugin.com//7.2.3.1//EN
TZID:America/New_York
X-WR-TIMEZONE:America/New_York
BEGIN:VEVENT
UID:4360@goriverwalk.com
DTSTART;TZID=America/New_York:20180318T080000
DTEND;TZID=America/New_York:20180318T180000
DTSTAMP:20180305T204809Z
URL:https://www.goriverwalk.com/greater-fort-lauderdale-events/florida-aid
 s-walk-music-festival
SUMMARY:Florida AIDS Walk & Music Festival
DESCRIPTION:Featuring a concert by Flo Rida!
ATTACH;FMTTYPE=image/jpeg:https://www.goriverwalk.com/wp-content/uploads/2
 018/03/FL-aids-walk.jpg
CATEGORIES:Community,Food,Fundraiser,Music
LOCATION:Fort Lauderdale Beach Park\, 1000 Seabreeze Boulevard\, Fort Laude
 rdale\, Florida\, 33316\, United States
GEO:26.110613;-80.10585200000003
X-APPLE-STRUCTURED-LOCATION;VALUE=URI;X-ADDRESS=1000 Seabreeze Boulevard\, 
 Fort Lauderdale\, Florida\, 33316\, United States;X-APPLE-RADIUS=100;X-TIT
 LE=Fort Lauderdale Beach Park:geo:26.110613,-80.10585200000003
END:VEVENT
BEGIN:VTIMEZONE
TZID:America/New_York
X-LIC-LOCATION:America/New_York
BEGIN:DAYLIGHT
DTSTART:20180311T030000
TZOFFSETFROM:-0500
TZOFFSETTO:-0400
TZNAME:EDT
END:DAYLIGHT
END:VTIMEZONE
END:VCALENDAR