BEGIN:VCALENDAR
VERSION:2.0
PRODID:-//wp-events-plugin.com//7.2.3.1//EN
TZID:America/New_York
X-WR-TIMEZONE:America/New_York
BEGIN:VEVENT
UID:10079@goriverwalk.com
DTSTART;TZID=America/New_York:20200827T190000
DTEND;TZID=America/New_York:20200827T220000
DTSTAMP:20200819T141257Z
URL:https://www.goriverwalk.com/greater-fort-lauderdale-events/fliff35-pos
 ter-unveiling-show-the-drive-in
SUMMARY:FLIFF35 POSTER UNVEILING SHOW @THE DRIVE-IN
DESCRIPTION:Kicking off the festival
ATTACH;FMTTYPE=image/jpeg:https://www.goriverwalk.com/wp-content/uploads/2
 020/08/FLIFF-35-poster.jpg
CATEGORIES:Art,Cultural,Festival,Film,Food
LOCATION:Pier 66 Marina South\, 2150 SE 17TH ST\, Fort Lauderdale\, FL\, 33
 316\, Broward County\, United States
X-APPLE-STRUCTURED-LOCATION;VALUE=URI;X-ADDRESS=2150 SE 17TH ST\, Fort Laud
 erdale\, FL\, 33316\, Broward County\, United States;X-APPLE-RADIUS=100;X-
 TITLE=Pier 66 Marina South:geo:0,0
END:VEVENT
BEGIN:VTIMEZONE
TZID:America/New_York
X-LIC-LOCATION:America/New_York
BEGIN:DAYLIGHT
DTSTART:20200308T030000
TZOFFSETFROM:-0500
TZOFFSETTO:-0400
TZNAME:EDT
END:DAYLIGHT
END:VTIMEZONE
END:VCALENDAR