BEGIN:VCALENDAR
VERSION:2.0
PRODID:-//wp-events-plugin.com//7.2.3.1//EN
TZID:America/New_York
X-WR-TIMEZONE:America/New_York
BEGIN:VEVENT
UID:22915@goriverwalk.com
DTSTART;TZID=America/New_York:20260502T120000
DTEND;TZID=America/New_York:20260502T160000
DTSTAMP:20260421T143750Z
URL:https://www.goriverwalk.com/greater-fort-lauderdale-events/flamingo-fl
 ea-at-marina-village-3
SUMMARY:Flamingo Flea at Marina Village
DESCRIPTION:Celebrate Small Business with The Flamingo Flea. Browse handmad
 e and local goods and decor for local and visitors alike.\n\nBeachside foo
 d hall\, market\, and 2 story boat bar with live DJ\n\nVendors:\nApply at 
 Flamingoflea.com\n\nMost up to date details - follow @theflamingoflea\n\nF
 or more information click here.
ATTACH;FMTTYPE=image/jpeg:https://www.goriverwalk.com/wp-content/uploads/2
 026/04/600x600-1.jpg
CATEGORIES:Business,Community
LOCATION:Marina Village\, 951 Seabreeze Boulevard\, Fort Lauderdale\, FL\, 
 33316\, United States
X-APPLE-STRUCTURED-LOCATION;VALUE=URI;X-ADDRESS=951 Seabreeze Boulevard\, F
 ort Lauderdale\, FL\, 33316\, United States;X-APPLE-RADIUS=100;X-TITLE=Mar
 ina Village:geo:0,0
END:VEVENT
BEGIN:VTIMEZONE
TZID:America/New_York
X-LIC-LOCATION:America/New_York
BEGIN:DAYLIGHT
DTSTART:20260308T030000
TZOFFSETFROM:-0500
TZOFFSETTO:-0400
TZNAME:EDT
END:DAYLIGHT
END:VTIMEZONE
END:VCALENDAR