BEGIN:VCALENDAR
VERSION:2.0
PRODID:-//wp-events-plugin.com//7.2.3.1//EN
TZID:America/New_York
X-WR-TIMEZONE:America/New_York
BEGIN:VEVENT
UID:6699@goriverwalk.com
DTSTART;TZID=America/New_York:20190131T173000
DTEND;TZID=America/New_York:20190131T203000
DTSTAMP:20190110T152916Z
URL:https://www.goriverwalk.com/greater-fort-lauderdale-events/first-call-
 for-laughs-comedy-show
SUMMARY:First Call for Laughs Comedy Show
DESCRIPTION:Benefiting 2-1-1 Broward
ATTACH;FMTTYPE=image/jpeg:https://www.goriverwalk.com/wp-content/uploads/2
 017/11/Default-calendar.jpg
CATEGORIES:Comedy
LOCATION:ArtServe\, 1350 E Sunrise Blvd\, Fort Lauderdale\, FL\, 33304\, Un
 ited States
GEO:26.136890;-80.130386
X-APPLE-STRUCTURED-LOCATION;VALUE=URI;X-ADDRESS=1350 E Sunrise Blvd\, Fort 
 Lauderdale\, FL\, 33304\, United States;X-APPLE-RADIUS=100;X-TITLE=ArtServ
 e:geo:26.136890,-80.130386
END:VEVENT
BEGIN:VTIMEZONE
TZID:America/New_York
X-LIC-LOCATION:America/New_York
BEGIN:STANDARD
DTSTART:20181104T010000
TZOFFSETFROM:-0400
TZOFFSETTO:-0500
TZNAME:EST
END:STANDARD
END:VTIMEZONE
END:VCALENDAR