BEGIN:VCALENDAR
VERSION:2.0
PRODID:-//wp-events-plugin.com//7.2.3.1//EN
TZID:America/New_York
X-WR-TIMEZONE:America/New_York
BEGIN:VEVENT
UID:18747@goriverwalk.com
DTSTART;TZID=America/New_York:20240503T180000
DTEND;TZID=America/New_York:20240503T220000
DTSTAMP:20240306T214703Z
URL:https://www.goriverwalk.com/greater-fort-lauderdale-events/fins-up-a-t
 ribute-to-jimmy-buffett
SUMMARY:Fins Up! A Tribute to Jimmy Buffett
DESCRIPTION:Benefiting Broward Education Foundation
ATTACH;FMTTYPE=image/jpeg:https://www.goriverwalk.com/wp-content/uploads/2
 024/03/Fins-Up-pic.jpg
CATEGORIES:Business,Cocktail,Education,Food,Fundraiser,Music
LOCATION:Margaritaville Hollywood Beach Resort\, 1111 N Ocean Drive\, Holly
 wood\, Florida\, 33019\, United States
GEO:26.0188856;-80.11628739999998
X-APPLE-STRUCTURED-LOCATION;VALUE=URI;X-ADDRESS=1111 N Ocean Drive\, Hollyw
 ood\, Florida\, 33019\, United States;X-APPLE-RADIUS=100;X-TITLE=Margarita
 ville Hollywood Beach Resort:geo:26.0188856,-80.11628739999998
END:VEVENT
BEGIN:VTIMEZONE
TZID:America/New_York
X-LIC-LOCATION:America/New_York
BEGIN:DAYLIGHT
DTSTART:20240310T030000
TZOFFSETFROM:-0500
TZOFFSETTO:-0400
TZNAME:EDT
END:DAYLIGHT
END:VTIMEZONE
END:VCALENDAR