BEGIN:VCALENDAR
VERSION:2.0
PRODID:-//wp-events-plugin.com//7.2.3.1//EN
TZID:America/New_York
X-WR-TIMEZONE:America/New_York
BEGIN:VEVENT
UID:2479@goriverwalk.com
DTSTART;TZID=America/New_York:20160827T180000
DTEND;TZID=America/New_York:20160827T230000
DTSTAMP:20160822T152947Z
URL:https://www.goriverwalk.com/greater-fort-lauderdale-events/fatvillage-
 artwalk
SUMMARY:FATVillage ArtWalk
DESCRIPTION:A monthly celebration of art and artists\, complemented with fo
 od trucks\, performances\, and the unexpected
ATTACH;FMTTYPE=image/jpeg:https://www.goriverwalk.com/wp-content/uploads/2
 016/08/projects.jpg
CATEGORIES:Art
LOCATION:FATVillage Arts District\, 521 NW 1st Avenue\, Fort Lauderdale\, F
 lorida\, 33301\, United States
GEO:26.128630;-80.144714
X-APPLE-STRUCTURED-LOCATION;VALUE=URI;X-ADDRESS=521 NW 1st Avenue\, Fort La
 uderdale\, Florida\, 33301\, United States;X-APPLE-RADIUS=100;X-TITLE=FATV
 illage Arts District:geo:26.128630,-80.144714
END:VEVENT
BEGIN:VTIMEZONE
TZID:America/New_York
X-LIC-LOCATION:America/New_York
BEGIN:DAYLIGHT
DTSTART:20160313T030000
TZOFFSETFROM:-0500
TZOFFSETTO:-0400
TZNAME:EDT
END:DAYLIGHT
END:VTIMEZONE
END:VCALENDAR