BEGIN:VCALENDAR
VERSION:2.0
PRODID:-//wp-events-plugin.com//7.2.3.1//EN
TZID:America/New_York
X-WR-TIMEZONE:America/New_York
BEGIN:VEVENT
UID:4395@goriverwalk.com
DTSTART;TZID=America/New_York:20180414T193000
DTEND;TZID=America/New_York:20180414T203000
DTSTAMP:20180312T210236Z
URL:https://www.goriverwalk.com/greater-fort-lauderdale-events/fashion-fun
 ds-the-cure-ft-lauderdale
SUMMARY:Fashion Funds the Cure Ft. Lauderdale
DESCRIPTION:Helping boys and girls battling cancer
ATTACH;FMTTYPE=image/jpeg:https://www.goriverwalk.com/wp-content/uploads/2
 018/03/FFTC.jpg
CATEGORIES:Fundraiser
LOCATION:Don Taft University Center at Nova Southeastern University\, 3301 
 College Avenue\, fort lauderdale\, FL\, 33314\, United States
GEO:26.078607;-80.243539
X-APPLE-STRUCTURED-LOCATION;VALUE=URI;X-ADDRESS=3301 College Avenue\, fort 
 lauderdale\, FL\, 33314\, United States;X-APPLE-RADIUS=100;X-TITLE=Don Taf
 t University Center at Nova Southeastern University:geo:26.078607,-80.2435
 39
END:VEVENT
BEGIN:VTIMEZONE
TZID:America/New_York
X-LIC-LOCATION:America/New_York
BEGIN:DAYLIGHT
DTSTART:20180311T030000
TZOFFSETFROM:-0500
TZOFFSETTO:-0400
TZNAME:EDT
END:DAYLIGHT
END:VTIMEZONE
END:VCALENDAR