BEGIN:VCALENDAR
VERSION:2.0
PRODID:-//wp-events-plugin.com//7.2.3.1//EN
TZID:America/New_York
X-WR-TIMEZONE:America/New_York
BEGIN:VEVENT
UID:6985@goriverwalk.com
DTSTART;TZID=America/New_York:20190302T094500
DTEND;TZID=America/New_York:20190302T110000
DTSTAMP:20190225T214455Z
URL:https://www.goriverwalk.com/greater-fort-lauderdale-events/family-yoga
 -day
SUMMARY:Family Yoga Day
DESCRIPTION:Separate classes for children and adults
ATTACH;FMTTYPE=image/jpeg:https://www.goriverwalk.com/wp-content/uploads/2
 019/02/Family_Yoga_Day_Flyer02.png
CATEGORIES:Health
LOCATION:Holiday Park\, 1000 E Sunrise Boulevard \, Fort Lauderdale\, Flori
 da\, 33304\, United States
GEO:26.1370457;-80.13332400000002
X-APPLE-STRUCTURED-LOCATION;VALUE=URI;X-ADDRESS=1000 E Sunrise Boulevard \,
  Fort Lauderdale\, Florida\, 33304\, United States;X-APPLE-RADIUS=100;X-TI
 TLE=Holiday Park:geo:26.1370457,-80.13332400000002
END:VEVENT
BEGIN:VTIMEZONE
TZID:America/New_York
X-LIC-LOCATION:America/New_York
BEGIN:STANDARD
DTSTART:20181104T010000
TZOFFSETFROM:-0400
TZOFFSETTO:-0500
TZNAME:EST
END:STANDARD
END:VTIMEZONE
END:VCALENDAR