BEGIN:VCALENDAR
VERSION:2.0
PRODID:-//wp-events-plugin.com//7.2.3.1//EN
TZID:America/New_York
X-WR-TIMEZONE:America/New_York
BEGIN:VEVENT
UID:15423@goriverwalk.com
DTSTART;TZID=America/New_York:20221116T100000
DTEND;TZID=America/New_York:20221116T170000
DTSTAMP:20221025T190444Z
URL:https://www.goriverwalk.com/greater-fort-lauderdale-events/fall-market
SUMMARY:Fall Market
DESCRIPTION:A full day of workshops
ATTACH;FMTTYPE=image/jpeg:https://www.goriverwalk.com/wp-content/uploads/2
 022/10/DCOTA.jpg
CATEGORIES:Education,Networking
LOCATION:Design Center of the Americas (DCOTA)\, 1855 Griffin Road \, Dania
  Beach\, Florida\, 33004\, United States
GEO:26.0596589;-80.16151869999999
X-APPLE-STRUCTURED-LOCATION;VALUE=URI;X-ADDRESS=1855 Griffin Road \, Dania 
 Beach\, Florida\, 33004\, United States;X-APPLE-RADIUS=100;X-TITLE=Design 
 Center of the Americas (DCOTA):geo:26.0596589,-80.16151869999999
END:VEVENT
BEGIN:VTIMEZONE
TZID:America/New_York
X-LIC-LOCATION:America/New_York
BEGIN:STANDARD
DTSTART:20221106T010000
TZOFFSETFROM:-0400
TZOFFSETTO:-0500
TZNAME:EST
END:STANDARD
END:VTIMEZONE
END:VCALENDAR