BEGIN:VCALENDAR
VERSION:2.0
PRODID:-//wp-events-plugin.com//7.2.3.1//EN
TZID:America/New_York
X-WR-TIMEZONE:America/New_York
BEGIN:VEVENT
UID:6172@goriverwalk.com
DTSTART;TZID=America/New_York:20190222T180000
DTEND;TZID=America/New_York:20190222T210000
DTSTAMP:20181106T202653Z
URL:https://www.goriverwalk.com/greater-fort-lauderdale-events/exposed-exh
 ibition-and-fundrasier
SUMMARY:Exposed Exhibition and Fundrasier
DESCRIPTION:Closing Night Draw
ATTACH;FMTTYPE=image/jpeg:https://www.goriverwalk.com/wp-content/uploads/2
 018/11/exposed-650px-1.jpg
CATEGORIES:Art,Fundraiser
LOCATION:Art and Culture Center/Hollywood\, 1650 Harrison Street\, Hollywoo
 d\, Florida\, 33020\, United States
GEO:26.010349;-80.140602
X-APPLE-STRUCTURED-LOCATION;VALUE=URI;X-ADDRESS=1650 Harrison Street\, Holl
 ywood\, Florida\, 33020\, United States;X-APPLE-RADIUS=100;X-TITLE=Art and
  Culture Center/Hollywood:geo:26.010349,-80.140602
END:VEVENT
BEGIN:VTIMEZONE
TZID:America/New_York
X-LIC-LOCATION:America/New_York
BEGIN:STANDARD
DTSTART:20181104T010000
TZOFFSETFROM:-0400
TZOFFSETTO:-0500
TZNAME:EST
END:STANDARD
END:VTIMEZONE
END:VCALENDAR