BEGIN:VCALENDAR
VERSION:2.0
PRODID:-//wp-events-plugin.com//7.2.3.1//EN
TZID:America/New_York
X-WR-TIMEZONE:America/New_York
BEGIN:VEVENT
UID:9435@goriverwalk.com
DTSTART;TZID=America/New_York:20200314T093000
DTEND;TZID=America/New_York:20200315T160000
DTSTAMP:20200131T202959Z
URL:https://www.goriverwalk.com/greater-fort-lauderdale-events/exotic-plan
 t-festival-and-bonsai-show
SUMMARY:Exotic Plant Festival and Bonsai Show
DESCRIPTION:Displays\, lectures and more
ATTACH;FMTTYPE=image/jpeg:https://www.goriverwalk.com/wp-content/uploads/2
 019/11/flamingo-gardens-logo.jpg
CATEGORIES:Festival
LOCATION:Flamingo Gardens\, 3750 S Flamingo Road\, Davie\, Florida\, 33330\
 , United States
GEO:26.0741789;-80.31320410000001
X-APPLE-STRUCTURED-LOCATION;VALUE=URI;X-ADDRESS=3750 S Flamingo Road\, Davi
 e\, Florida\, 33330\, United States;X-APPLE-RADIUS=100;X-TITLE=Flamingo Ga
 rdens:geo:26.0741789,-80.31320410000001
END:VEVENT
BEGIN:VTIMEZONE
TZID:America/New_York
X-LIC-LOCATION:America/New_York
BEGIN:DAYLIGHT
DTSTART:20200308T030000
TZOFFSETFROM:-0500
TZOFFSETTO:-0400
TZNAME:EDT
END:DAYLIGHT
END:VTIMEZONE
END:VCALENDAR