BEGIN:VCALENDAR
VERSION:2.0
PRODID:-//wp-events-plugin.com//7.2.3.1//EN
TZID:America/New_York
X-WR-TIMEZONE:America/New_York
BEGIN:VEVENT
UID:13960@goriverwalk.com
DTSTART;TZID=America/New_York:20220422T200000
DTEND;TZID=America/New_York:20220424T213000
DTSTAMP:20220404T170359Z
URL:https://www.goriverwalk.com/greater-fort-lauderdale-events/eurydice-by
 -sarah-ruhl
SUMMARY:EURYDICE BY SARAH RUHL
DESCRIPTION:Reimagining the Greek myth
ATTACH;FMTTYPE=image/jpeg:https://www.goriverwalk.com/wp-content/uploads/2
 022/04/Eurydice-260-×-155-px-BC-Calendar-Thumbnail-1.jpg
CATEGORIES:Theater
LOCATION:Broward College South Campus\, 7200 Pines Blvd.\, Pembroke Pines\,
  FL\, 33024\, United States
GEO:26.0077942;-80.23430389999999
X-APPLE-STRUCTURED-LOCATION;VALUE=URI;X-ADDRESS=7200 Pines Blvd.\, Pembroke
  Pines\, FL\, 33024\, United States;X-APPLE-RADIUS=100;X-TITLE=Broward Col
 lege South Campus:geo:26.0077942,-80.23430389999999
END:VEVENT
BEGIN:VTIMEZONE
TZID:America/New_York
X-LIC-LOCATION:America/New_York
BEGIN:DAYLIGHT
DTSTART:20220313T030000
TZOFFSETFROM:-0500
TZOFFSETTO:-0400
TZNAME:EDT
END:DAYLIGHT
END:VTIMEZONE
END:VCALENDAR