BEGIN:VCALENDAR
VERSION:2.0
PRODID:-//wp-events-plugin.com//7.2.3.1//EN
TZID:America/New_York
X-WR-TIMEZONE:America/New_York
BEGIN:VEVENT
UID:4496@goriverwalk.com
DTSTART;TZID=America/New_York:20180421T183000
DTEND;TZID=America/New_York:20180421T220000
DTSTAMP:20180322T180549Z
URL:https://www.goriverwalk.com/greater-fort-lauderdale-events/epicurean-e
 scapade-a-food-wine-experience-2
SUMMARY:Epicurean Escapade: A Food & Wine Experience
DESCRIPTION:To benefit the Phil Smith ALS and Movement Disorders Clinic
ATTACH;FMTTYPE=image/jpeg:https://www.goriverwalk.com/wp-content/uploads/2
 018/03/Group-Photo-Holy-Cross.jpg
CATEGORIES:Cocktail,Food,Fundraiser
LOCATION:Design Center of the Americas (DCOTA)\, 1855 Griffin Road\, Dania 
 Beach\, Florida\, United States
GEO:26.059658;-80.161522
X-APPLE-STRUCTURED-LOCATION;VALUE=URI;X-ADDRESS=1855 Griffin Road\, Dania B
 each\, Florida\, United States;X-APPLE-RADIUS=100;X-TITLE=Design Center of
  the Americas (DCOTA):geo:26.059658,-80.161522
END:VEVENT
BEGIN:VTIMEZONE
TZID:America/New_York
X-LIC-LOCATION:America/New_York
BEGIN:DAYLIGHT
DTSTART:20180311T030000
TZOFFSETFROM:-0500
TZOFFSETTO:-0400
TZNAME:EDT
END:DAYLIGHT
END:VTIMEZONE
END:VCALENDAR